BEGIN:VCALENDAR
VERSION:2.0
PRODID:-//Collier County Parks &amp; Recreation - ECPv5.14.2.1//NONSGML v1.0//EN
CALSCALE:GREGORIAN
METHOD:PUBLISH
X-WR-CALNAME:Collier County Parks &amp; Recreation
X-ORIGINAL-URL:https://www.collierparks.com
X-WR-CALDESC:Events for Collier County Parks &amp; Recreation
REFRESH-INTERVAL;VALUE=DURATION:PT1H
X-Robots-Tag:noindex
X-PUBLISHED-TTL:PT1H
BEGIN:VTIMEZONE
TZID:America/New_York
BEGIN:DAYLIGHT
TZOFFSETFROM:-0500
TZOFFSETTO:-0400
TZNAME:EDT
DTSTART:20260308T070000
END:DAYLIGHT
BEGIN:STANDARD
TZOFFSETFROM:-0400
TZOFFSETTO:-0500
TZNAME:EST
DTSTART:20261101T060000
END:STANDARD
END:VTIMEZONE
BEGIN:VEVENT
DTSTART;TZID=America/New_York:20260502T080000
DTEND;TZID=America/New_York:20260502T170000
DTSTAMP:20260424T040330
CREATED:20260217T172907Z
LAST-MODIFIED:20260217T172907Z
UID:10017-1777708800-1777741200@www.collierparks.com
SUMMARY:PURRS & PADDLES PICKLEBALL TOURNAMENT 2026
DESCRIPTION:Get ready for a high-energy day of pickleball\, community\, and compassion at the 2nd Annual Purrs & Paddles Pickleball Tournament — happening Saturday\, May 2 at the National Pickleball Center inside East Naples Community Park! \nThis unforgettable event brings players\, spectators\, families\, and animal lovers together for a fun-filled day on and off the court — all in support of the lifesaving work of For the Love of Cats. \nBring the style AND the smiles!\nRock your most fun\, colorful\, or creative pickleball outfit for a chance to win prizes and be featured in event photos and social media.\nCat-themed looks welcome — but not required! \nWhisker Warriors Cat Photo Fundraiser \nNot playing pickleball? Let your cat take the court!\nWith a $100 donation\, submit your cat’s photo and we’ll transform them into a magical pickleball player for our Whisker Warriors Cat Team.\n✨ Featured online & at the event\n✨ Displayed in our Catwalk for a Cause\n✨ Receive a custom digital image to share \nKitten Meet & Greet \nDon’t miss one of the most heartwarming highlights of the day! Meet adorable kittens\, learn about fostering and adoption\, and experience firsthand the joy these little lives bring. \nA Day for Community & Compassion \nPurrs & Paddles is more than a tournament — it’s a celebration of sports\, connection\, and caring for cats in our community. Every serve\, smile\, and supporter helps make a difference. \nSIGN UP TO PLAY TODAY at http://www.fortheloveofcatsfl.com \n 
URL:https://www.collierparks.com/event-calendar/purrs-paddles-pickleball-tournament-2026/
LOCATION:East Naples Community Park\, 3500 Thomasson Drive\, Naples\, FL\, 34112\, United States
ATTACH;FMTTYPE=image/jpeg:https://www.collierparks.com/wp-content/uploads/2026/02/PPPT-Logo_PB.jpg
ORGANIZER;CN="For%20The%20Love%20of%20%20Cats":MAILTO:Pamelaa@fortheloveofcatsfl.com
END:VEVENT
END:VCALENDAR