BEGIN:VCALENDAR
VERSION:2.0
PRODID:-//Collier County Parks &amp; Recreation - ECPv5.14.2.1//NONSGML v1.0//EN
CALSCALE:GREGORIAN
METHOD:PUBLISH
X-WR-CALNAME:Collier County Parks &amp; Recreation
X-ORIGINAL-URL:https://www.collierparks.com
X-WR-CALDESC:Events for Collier County Parks &amp; Recreation
REFRESH-INTERVAL;VALUE=DURATION:PT1H
X-Robots-Tag:noindex
X-PUBLISHED-TTL:PT1H
BEGIN:VTIMEZONE
TZID:America/New_York
BEGIN:DAYLIGHT
TZOFFSETFROM:-0500
TZOFFSETTO:-0400
TZNAME:EDT
DTSTART:20260308T070000
END:DAYLIGHT
BEGIN:STANDARD
TZOFFSETFROM:-0400
TZOFFSETTO:-0500
TZNAME:EST
DTSTART:20261101T060000
END:STANDARD
END:VTIMEZONE
BEGIN:VEVENT
DTSTART;TZID=America/New_York:20260424T183000
DTEND;TZID=America/New_York:20260424T193000
DTSTAMP:20260423T110446
CREATED:20260122T175935Z
LAST-MODIFIED:20260122T175953Z
UID:9955-1777055400-1777059000@www.collierparks.com
SUMMARY:IMCP Fun Friday Science Night
DESCRIPTION:Please join us for a night of fun science experiments. \nFor more information call (239) 252-4449.
URL:https://www.collierparks.com/event-calendar/imcp-fun-friday-science-night/
LOCATION:Immokalee Community Park\, 321 N. 1st Street\, Immokalee\, FL\, 34142\, United States
END:VEVENT
BEGIN:VEVENT
DTSTART;TZID=America/New_York:20260424T183000
DTEND;TZID=America/New_York:20260424T200000
DTSTAMP:20260423T110446
CREATED:20260122T155112Z
LAST-MODIFIED:20260122T155156Z
UID:9906-1777055400-1777060800@www.collierparks.com
SUMMARY:AIR at BCIRP International Dance Day Party
DESCRIPTION:Join the AIR Team as we celebrate International Dance Day with an inclusive Dance Party for all ages and abilities! Bring your friends and family! No dance experience needed. Just bring your energy and get ready to dance the night away! \n\n\n\nOpen to ALL ages and abilities\nDance Party begins at 6:30pm\nLearn a step-by-step Dance Day routine\nFood Trucks on site– grab some food and refuel!\nLive Dance Performances & Dance Vendors\nGiveaways/Raffles/ Prizes\n\n\n\nFor more information\, please email AdaptiveInclusiveRec@collier.gov or call Monica Cummings (239) 252-4184
URL:https://www.collierparks.com/event-calendar/air-at-bcirp-international-dance-day-party/
LOCATION:Big Corkscrew Island Regional Park\, 810 39th Ave. N.E.\, Naples\, FL\, 34120\, United States
END:VEVENT
END:VCALENDAR